BEGIN:VCALENDAR
VERSION:2.0
PRODID: -//Q4 Inc.//EN
METHOD:PUBLISH
BEGIN:VTIMEZONE
TZID:America/New_York
X-LIC-LOCATION:America/New_York
BEGIN:DAYLIGHT
TZOFFSETFROM:-0500
TZOFFSETTO:-0400
TZNAME:EDT
DTSTART:19700308T020000
RRULE:FREQ=YEARLY;BYMONTH=3;BYDAY=2SU
END:DAYLIGHT
BEGIN:STANDARD
TZOFFSETFROM:-0400
TZOFFSETTO:-0500
TZNAME:EST
DTSTART:19701101T020000
RRULE:FREQ=YEARLY;BYMONTH=11;BYDAY=1SU
END:STANDARD
END:VTIMEZONE
BEGIN:VEVENT
ORGANIZER:MAILTO:no-reply@q4inc.com
DTSTART;TZID="America/New_York":20210902T083000
DTEND;TZID="America/New_York":20210902T093000
LOCATION:
UID:b0bd0abd-fd53-4554-8991-0179cd698c36
DTSTAMP:20260421T072217
SUMMARY:Signet Jewelers Second Quarter Fiscal 2022 Earnings Call
DESCRIPTION: View More Information: https://www.signetjewelers.com/investors/presentations-and-events/event-details/2021/Signet-Jewelers-Second-Quarter-Fiscal-2022-Earnings-Call/default.aspx
URL;VALUE=URI:https://www.signetjewelers.com/investors/presentations-and-events/event-details/2021/Signet-Jewelers-Second-Quarter-Fiscal-2022-Earnings-Call/default.aspx
PRIORITY:5
CLASS:PUBLIC
END:VEVENT
END:VCALENDAR
